BEGIN:VCALENDAR
VERSION:2.0
PRODID:-//wp-events-plugin.com//6.4.5.1//EN
TZID:Europe/Stockholm
X-WR-TIMEZONE:Europe/Stockholm
BEGIN:VEVENT
UID:75@knutsgilletilund.com
DTSTART;TZID=Europe/Stockholm;VALUE=DATE:20261021
DTEND;TZID=Europe/Stockholm;VALUE=DATE:20261022
DTSTAMP:20260420T082519Z
URL:https://www.knutsgilletilund.com/events/stammor-2026/
SUMMARY:Stämmor
DESCRIPTION:Välkomna på årsstämmor!\nMer information kommer snart.
ATTACH;FMTTYPE=image/jpeg:https://www.knutsgilletilund.com/wp-content/uplo
 ads/2026/04/Radhuset-Lund-e1776673505354.jpg
END:VEVENT
BEGIN:VTIMEZONE
TZID:Europe/Stockholm
X-LIC-LOCATION:Europe/Stockholm
BEGIN:DAYLIGHT
DTSTART:20260329T030000
TZOFFSETFROM:+0100
TZOFFSETTO:+0200
TZNAME:CEST
END:DAYLIGHT
END:VTIMEZONE
END:VCALENDAR