BEGIN:VCALENDAR
VERSION:2.0
PRODID:-//wp-events-plugin.com//6.4.5.1//EN
TZID:Europe/Stockholm
X-WR-TIMEZONE:Europe/Stockholm
BEGIN:VEVENT
UID:73@knutsgilletilund.com
DTSTART;TZID=Europe/Stockholm:20260530T120000
DTEND;TZID=Europe/Stockholm:20260530T170000
DTSTAMP:20260418T175111Z
URL:https://www.knutsgilletilund.com/events/papegojskjutning-2026-2/
SUMMARY:Papegojskjutning
DESCRIPTION:Varmt välkomna på Papegojskjutning!\nMed högtidsfesten bakom
  oss flyttar vi fokus till ömsesidigt försvar. Vi gör det vid den årli
 gen återkommande papegojskjutningen. Papegojorna är av papp och vi ser t
 ill att ha trevligt under det som i flydda tider måhända var en träning
  med allvarligare syfte. Vi beledsagas av uppdukad buffé\, dryck\, orkest
 er och annan underhållning. Skyttet sker i vänskaplig anda och leder fra
 m emot kröningen av årets fågelkung och fågeldrottning. Hela familjen 
 hälsas varmt välkommen i glada vänners lag.\n\nI år samlas de skjutgla
 da på Trollenäs slott. Godset tillhör familjen Trolle som generöst vä
 lkomnar oss till sin park.\n\nReservera eftermiddagen lördagen den 30 maj
  för detta ändamål. Precis som de senaste åren kommer det att finnas s
 tolar och bord\, tälttak över huvudet\, mat och dryck på plats samt arr
 angerad busstransport.\n\nMer information kommer. Anmälan öppnar snart!
ATTACH;FMTTYPE=image/jpeg:https://www.knutsgilletilund.com/wp-content/uplo
 ads/2024/03/IMG_4067.png
END:VEVENT
BEGIN:VTIMEZONE
TZID:Europe/Stockholm
X-LIC-LOCATION:Europe/Stockholm
BEGIN:DAYLIGHT
DTSTART:20260329T030000
TZOFFSETFROM:+0100
TZOFFSETTO:+0200
TZNAME:CEST
END:DAYLIGHT
END:VTIMEZONE
END:VCALENDAR