BEGIN:VCALENDAR
VERSION:2.0
PRODID:-//wp-events-plugin.com//6.4.5.1//EN
TZID:Europe/Stockholm
X-WR-TIMEZONE:Europe/Stockholm
BEGIN:VEVENT
UID:74@knutsgilletilund.com
DTSTART;TZID=Europe/Stockholm;VALUE=DATE:20260905
DTEND;TZID=Europe/Stockholm;VALUE=DATE:20260906
DTSTAMP:20260420T082047Z
URL:https://www.knutsgilletilund.com/events/hostutflykt-till-ronneby-2026/
SUMMARY:Höstutflykt till Ronneby
DESCRIPTION:Välkomna på höstutflykt till Ronneby!\nMer information komme
 r snart
ATTACH;FMTTYPE=image/jpeg:https://www.knutsgilletilund.com/wp-content/uplo
 ads/2026/04/shutterstock_2035003052-e1776673231881.jpg
END:VEVENT
BEGIN:VTIMEZONE
TZID:Europe/Stockholm
X-LIC-LOCATION:Europe/Stockholm
BEGIN:DAYLIGHT
DTSTART:20260329T030000
TZOFFSETFROM:+0100
TZOFFSETTO:+0200
TZNAME:CEST
END:DAYLIGHT
END:VTIMEZONE
END:VCALENDAR